BEGIN:VCALENDAR
VERSION:2.0
PRODID:-//wp-events-plugin.com//7.2.2.1//EN
TZID:Europe/Berlin
X-WR-TIMEZONE:Europe/Berlin
BEGIN:VEVENT
UID:108@b-schick.de
DTSTART;TZID=Europe/Berlin;VALUE=DATE:20260923
DTEND;TZID=Europe/Berlin;VALUE=DATE:20260928
DTSTAMP:20260226T075850Z
URL:https://b-schick.de/workshops/alphorn-festival-alphorn-workshop-und-ei
 nzelstunden-im-kleinwalsertal/
SUMMARY:Alphorn-Festival "Alphorn-Workshop" und "Einzelstunden" im Kleinwal
 sertal
DESCRIPTION:\n\n\nInfo und Anmeldung\n\n\n\n
LOCATION:Kleinwalstertal Tourismus eGen\, Walserstr. 264\, Hirschegg\, Öst
 erreich\, A-6992\, Österreich
X-APPLE-STRUCTURED-LOCATION;VALUE=URI;X-ADDRESS=Walserstr. 264\, Hirschegg\
 , Österreich\, A-6992\, Österreich;X-APPLE-RADIUS=100;X-TITLE=Kleinwalst
 ertal Tourismus eGen:geo:0,0
END:VEVENT
BEGIN:VTIMEZONE
TZID:Europe/Berlin
X-LIC-LOCATION:Europe/Berlin
BEGIN:DAYLIGHT
DTSTART:20260329T030000
TZOFFSETFROM:+0100
TZOFFSETTO:+0200
TZNAME:CEST
END:DAYLIGHT
END:VTIMEZONE
END:VCALENDAR